BEGIN:VCALENDAR
VERSION:2.0
PRODID:-//wp-events-plugin.com//7.2.3.1//EN
TZID:America/Toronto
X-WR-TIMEZONE:America/Toronto
BEGIN:VEVENT
UID:6608@kehillatbethisrael.com
DTSTART;TZID=America/Toronto:20230326T160000
DTEND;TZID=America/Toronto:20230326T170000
DTSTAMP:20230320T231805Z
URL:https://kehillatbethisrael.com/events/a-totally-fun-chocolate-seder-fo
 r-ott-ketanim-and-chaverim-kids-their-families/
SUMMARY:A Totally Fun Chocolate Seder! For OTT\, Ketanim\, and Chaverim kid
 s & their families
DESCRIPTION:Calling all OTT kids/familes\; and KBI's Ketanim (Gr. K-2) and 
 Chaverim (Gr. 3-5):\n\nJoin Corinne (OTT Director) and Cantor Green for a 
 highly entertaining\, and amazingly sweet (literally) model seder based o
 n the order of the traditional seder... done in a very non-traditional way
 ! Simple roles for participants that require no preparation in advance!\n\
 nIt's FREE for all\, but we need you to register at www.kehillatbethisrael
 .com/choc-seder by Thursday at Noon so we can get the right amount of swee
 ts and set up tables accordingly.\n\nChag Malei Shocolad! Have a chocolate
 y holiday!\n\nNote: Cantor Green will do a Pesach Q&amp\;A (or "Ask the Ca
 ntor") session at 5pm with parents while they wait to pick up their kids f
 rom OTT.
ATTACH;FMTTYPE=image/jpeg:https://kehillatbethisrael.com/wp-content/upload
 s/2023/03/OTT-Ketanim-Chaverim-Chocolate-Seder-Save-the-Date.png
CATEGORIES:Featured Events
END:VEVENT
BEGIN:VTIMEZONE
TZID:America/Toronto
X-LIC-LOCATION:America/Toronto
BEGIN:DAYLIGHT
DTSTART:20230312T030000
TZOFFSETFROM:-0500
TZOFFSETTO:-0400
TZNAME:EDT
END:DAYLIGHT
END:VTIMEZONE
END:VCALENDAR