BEGIN:VCALENDAR
VERSION:2.0
PRODID:-//wp-events-plugin.com//7.2.3.1//EN
TZID:America/Toronto
X-WR-TIMEZONE:America/Toronto
BEGIN:VEVENT
UID:8636@kehillatbethisrael.com
DTSTART;TZID=America/Toronto:20260428T193000
DTEND;TZID=America/Toronto:20260428T203000
DTSTAMP:20260330T194336Z
URL:https://kehillatbethisrael.com/events/malca-pass-library-book-discussi
 on-group-14/
SUMMARY:Malca Pass Library Book Discussion Group
DESCRIPTION:
ATTACH;FMTTYPE=image/jpeg:https://kehillatbethisrael.com/wp-content/upload
 s/2026/03/Book-Group-1080-x-1350-px-2.png
CATEGORIES:Featured Events
END:VEVENT
BEGIN:VTIMEZONE
TZID:America/Toronto
X-LIC-LOCATION:America/Toronto
BEGIN:DAYLIGHT
DTSTART:20260308T030000
TZOFFSETFROM:-0500
TZOFFSETTO:-0400
TZNAME:EDT
END:DAYLIGHT
END:VTIMEZONE
END:VCALENDAR