BEGIN:VCALENDAR
VERSION:2.0
PRODID:-//wp-events-plugin.com//7.2.3.1//EN
TZID:America/Toronto
X-WR-TIMEZONE:America/Toronto
BEGIN:VEVENT
UID:4734@kehillatbethisrael.com
DTSTART;TZID=America/Toronto:20220927T083000
DTEND;TZID=America/Toronto:20220927T190000
DTSTAMP:20220916T143507Z
URL:https://kehillatbethisrael.com/events/rosh-hashannah-day-2-2/
SUMMARY:Rosh Hashannah Day 2
DESCRIPTION:Please click here for a Complete Guide: 2022 High Holy Days
ATTACH;FMTTYPE=image/jpeg:https://kehillatbethisrael.com/wp-content/upload
 s/2022/09/HIGH-HOLY-DAYS-2022-5783-1-1.jpg
CATEGORIES:Featured Events
END:VEVENT
BEGIN:VTIMEZONE
TZID:America/Toronto
X-LIC-LOCATION:America/Toronto
BEGIN:DAYLIGHT
DTSTART:20220313T030000
TZOFFSETFROM:-0500
TZOFFSETTO:-0400
TZNAME:EDT
END:DAYLIGHT
END:VTIMEZONE
END:VCALENDAR