BEGIN:VCALENDAR
VERSION:2.0
PRODID:-//wp-events-plugin.com//7.2.3.1//EN
TZID:America/Toronto
X-WR-TIMEZONE:America/Toronto
BEGIN:VEVENT
UID:8445@kehillatbethisrael.com
DTSTART;TZID=America/Toronto:20240612T163000
DTEND;TZID=America/Toronto:20240613T163000
DTSTAMP:20240529T200057Z
URL:https://kehillatbethisrael.com/events/shavuot-kbi-youth-programming/
SUMMARY:Shavuot - KBI Youth programming
DESCRIPTION:
ATTACH;FMTTYPE=image/jpeg:https://kehillatbethisrael.com/wp-content/upload
 s/2024/05/Shavuot-24.png
CATEGORIES:Featured Events
END:VEVENT
BEGIN:VTIMEZONE
TZID:America/Toronto
X-LIC-LOCATION:America/Toronto
BEGIN:DAYLIGHT
DTSTART:20240310T030000
TZOFFSETFROM:-0500
TZOFFSETTO:-0400
TZNAME:EDT
END:DAYLIGHT
END:VTIMEZONE
END:VCALENDAR